BEGIN:VCALENDAR
VERSION:2.0
PRODID:-//Sustainable Schools - ECPv6.7.0//NONSGML v1.0//EN
CALSCALE:GREGORIAN
METHOD:PUBLISH
X-ORIGINAL-URL:https://sustainableschools.natureconnect.earth
X-WR-CALDESC:Events for Sustainable Schools
REFRESH-INTERVAL;VALUE=DURATION:PT1H
X-Robots-Tag:noindex
X-PUBLISHED-TTL:PT1H
BEGIN:VTIMEZONE
TZID:Africa/Johannesburg
BEGIN:STANDARD
TZOFFSETFROM:+0200
TZOFFSETTO:+0200
TZNAME:SAST
DTSTART:20240101T000000
END:STANDARD
END:VTIMEZONE
BEGIN:VEVENT
DTSTART;TZID=Africa/Johannesburg:20241102T090000
DTEND;TZID=Africa/Johannesburg:20241102T120000
DTSTAMP:20260425T060757
CREATED:20241023T132453Z
LAST-MODIFIED:20241023T134417Z
UID:26726-1730538000-1730548800@sustainableschools.natureconnect.earth
SUMMARY:Family Beach Day at Muizenberg Beach
DESCRIPTION:The Two Oceans Aquarium Foundation are excited to invite you all to a one-of-a-kind Family Beach Day at Muizenberg Beach\, Surfers Corner on Saturday\, 2nd November 2024\, from 09h00 to 12h00! This is a beach experience like never before\, and it’s suitable for all ages—whether you’re young or young at heart! \nWhat’s in store: \n\n🌱 Beach Cleanup: Let’s team up to protect our stunning coastline and give back to the ocean.\n🎉 Fun Educational Games & Activities: Participate in interactive\, ocean-themed games that are both entertaining and informative.\n🎁 Amazing Prizes: Exciting prizes are up for grabs for those who join the activities and help us make the day a success!\n\nWhat to Bring: \n\n🧢 Hat & Sunscreen: Protect yourself while enjoying the sun.\n💧 Reusable Water Bottle: Stay hydrated and eco-friendly.\n🧺 Picnic Basket: After the event\, unwind with your family and enjoy a picnic on the beach.\n👟 Comfortable Shoes: Perfect for walking along the beach while cleaning up!\n\nAfter a morning of action\, we encourage families to bring their picnic baskets and relax on the beach\, enjoying some much-needed downtime\, fresh air\, and vitamin sea. It’s the perfect opportunity to socialize and connect with other families in a laid-back atmosphere. \nBelow is the  official invite flyer—feel free to share it with friends\, family\, or colleagues who would enjoy a fun and meaningful day at the beach! \nWe look forward to seeing you there. Let’s come together and make a real impact on our coastal environment\, while having a fantastic time!
URL:https://sustainableschools.natureconnect.earth/event/family-beach-day-at-muizenberg-beach/
LOCATION:muizenberg beach\, Sunrise Beach Muizenberg\, Cape Town\, Western Cape\, 7945\, South Africa
CATEGORIES:Beach Clean-up,Education,Western Cape
ATTACH;FMTTYPE=image/jpeg:https://sustainableschools.natureconnect.earth/wp-content/uploads/2024/10/Ocean-Campus-Family-Beach-day-invitation2-1.jpg
END:VEVENT
END:VCALENDAR