BEGIN:VCALENDAR
VERSION:2.0
PRODID:-//Sustainable Schools - ECPv6.7.0//NONSGML v1.0//EN
CALSCALE:GREGORIAN
METHOD:PUBLISH
X-ORIGINAL-URL:https://sustainableschools.natureconnect.earth
X-WR-CALDESC:Events for Sustainable Schools
REFRESH-INTERVAL;VALUE=DURATION:PT1H
X-Robots-Tag:noindex
X-PUBLISHED-TTL:PT1H
BEGIN:VTIMEZONE
TZID:Africa/Johannesburg
BEGIN:STANDARD
TZOFFSETFROM:+0200
TZOFFSETTO:+0200
TZNAME:SAST
DTSTART:20250101T000000
END:STANDARD
END:VTIMEZONE
BEGIN:VEVENT
DTSTART;VALUE=DATE:20250906
DTEND;VALUE=DATE:20251221
DTSTAMP:20260423T193952
CREATED:20250912T104249Z
LAST-MODIFIED:20250912T105300Z
UID:33413-1757116800-1766275199@sustainableschools.natureconnect.earth
SUMMARY:Beach Clean-Ups Coming Up! 🌊
DESCRIPTION:Our coastlines and rivers need your help!  So many exciting clean-ups are lined up to help protect and restore our beautiful coastlines. Every effort makes a big difference in saving marine life and keeping our beaches clean for everyone to enjoy. \n📅 Upcoming Clean-Up Dates \n\n6 Sept – Milnerton Beach | 9:30\n17 Sept – KZN River (King’s Baton Relay)\n20 Sept – Milnerton Beach | 9:00\n27 Sept – Milnerton Lagoon | 9:30\n4 Oct – Milnerton Beach | 9:30\n11 Oct – Milnerton Lagoon | 9:30\n17 Oct – Gqeberha Clean-Up\n18 Oct – Milnerton Beach | 9:30\n1 Nov – Milnerton Lagoon | 9:30\n8 Nov – Milnerton Beach | 9:30\n15 Nov – Milnerton Beach | 9:30\n22 Nov – Milnerton Beach | 9:30\n29 Nov – Small Bay\, Blouberg | 9:30\n13 Dec – Milnerton Lagoon | 9:30\n20 Dec – Milnerton Beach | 9:30 🎅\n\n💡 Want to do even more?\nYou can also sponsor a clean-up and play a direct role in supporting this important work! \n📩 Email us at info@saveafishie.co.za if you’d like to sponsor or find out more. \nLet’s come together to save our seas—one clean-up at a time! \n \n 
URL:https://sustainableschools.natureconnect.earth/event/33413/
CATEGORIES:Beach Clean-up,Event
ATTACH;FMTTYPE=image/png:https://sustainableschools.natureconnect.earth/wp-content/uploads/2025/09/5.png
END:VEVENT
END:VCALENDAR