BEGIN:VCALENDAR
VERSION:2.0
PRODID:-//Sustainable Schools - ECPv6.7.0//NONSGML v1.0//EN
CALSCALE:GREGORIAN
METHOD:PUBLISH
X-WR-CALNAME:Sustainable Schools
X-ORIGINAL-URL:https://sustainableschools.natureconnect.earth
X-WR-CALDESC:Events for Sustainable Schools
REFRESH-INTERVAL;VALUE=DURATION:PT1H
X-Robots-Tag:noindex
X-PUBLISHED-TTL:PT1H
BEGIN:VTIMEZONE
TZID:Africa/Johannesburg
BEGIN:STANDARD
TZOFFSETFROM:+0200
TZOFFSETTO:+0200
TZNAME:SAST
DTSTART:20250101T000000
END:STANDARD
END:VTIMEZONE
BEGIN:VEVENT
DTSTART;TZID=Africa/Johannesburg:20250325T173000
DTEND;TZID=Africa/Johannesburg:20250325T183000
DTSTAMP:20260424T143241
CREATED:20250320T083127Z
LAST-MODIFIED:20250320T083127Z
UID:29024-1742923800-1742927400@sustainableschools.natureconnect.earth
SUMMARY:Pinelands High School Academic Lecture Series
DESCRIPTION:Pinelands High School invites you to the first lecture of the 2025 Pinelands High School Academic Lecture Series. \nThe lecture will be given by Professor Annie Chimphango\, Full Professor of Chemical Engineering at Stellenbosch University. She will be speaking about her research on converting agricultural waste into high-value bioproducts\, such as functional foods\, advanced biomaterials\, and biofuels. She will be presenting a lecture titled Chemical Engineering for Advancing Sustainable Development. \nThe lecture will take place on Tuesday 25th March from 5:30-6:30pm at Pinelands High School. \nClick here to register this event. \nYou can view the poster to the event below: \nProf-Chimphango-Poster
URL:https://sustainableschools.natureconnect.earth/event/pinelands-high-school-academic-lecture-series/
LOCATION:The Reeler Centre\, Pinelands High School\, Forest Dr Service Rd\, Pinelands\, Cape Town\, Western Cape\, 7405\, South Africa
CATEGORIES:Education,Event,Western Cape
ATTACH;FMTTYPE=image/png:https://sustainableschools.natureconnect.earth/wp-content/uploads/2025/03/Pinelands-Lecture-series-.png
END:VEVENT
END:VCALENDAR