BEGIN:VCALENDAR
VERSION:2.0
PRODID:-//Sustainable Schools - ECPv6.7.0//NONSGML v1.0//EN
CALSCALE:GREGORIAN
METHOD:PUBLISH
X-WR-CALNAME:Sustainable Schools
X-ORIGINAL-URL:https://sustainableschools.natureconnect.earth
X-WR-CALDESC:Events for Sustainable Schools
REFRESH-INTERVAL;VALUE=DURATION:PT1H
X-Robots-Tag:noindex
X-PUBLISHED-TTL:PT1H
BEGIN:VTIMEZONE
TZID:Africa/Johannesburg
BEGIN:STANDARD
TZOFFSETFROM:+0200
TZOFFSETTO:+0200
TZNAME:SAST
DTSTART:20250101T000000
END:STANDARD
END:VTIMEZONE
BEGIN:VEVENT
DTSTART;TZID=Africa/Johannesburg:20250416T120000
DTEND;TZID=Africa/Johannesburg:20250416T130000
DTSTAMP:20260424T143319
CREATED:20250218T121118Z
LAST-MODIFIED:20250331T134629Z
UID:28614-1744804800-1744808400@sustainableschools.natureconnect.earth
SUMMARY:National Teachers Onboarding Workshop 2
DESCRIPTION:We will be hosting our second National Onboarding Workshop on the 16th of April. This virtual workshop is intended to help registered schools and teachers learn how to use the Sustainable Schools Hub as well as answer some of the most frequently asked questions.  \n The Workshop will include:  \n\nConnecting you with your School Coordinator \n\n\nLearning about your dashboard \n\n\nHow to find and use resources \n\n\nLearning how to access and submit your School Environmental Management Plan (SEMP) \n\n\nShowing you where to find partners and other schools \n\n\nPosting on your timeline \n\n…And more!  \n Who is this for?   \nAll Registered and paid\,  Sustainable Schools  \nPlease invite as many teachers from your school as you would like. This session is available to all of our registered schools\, nationally. 
URL:https://sustainableschools.natureconnect.earth/event/national-teachers-onboarding-workshop-2-2/
CATEGORIES:Education,Event,Online Teacher Workshop
ATTACH;FMTTYPE=image/png:https://sustainableschools.natureconnect.earth/wp-content/uploads/2025/02/2025_Onboarding_workshops.png
END:VEVENT
BEGIN:VEVENT
DTSTART;TZID=Africa/Johannesburg:20250426T090000
DTEND;TZID=Africa/Johannesburg:20250426T110000
DTSTAMP:20260424T143319
CREATED:20250425T105026Z
LAST-MODIFIED:20250425T105332Z
UID:29980-1745658000-1745665200@sustainableschools.natureconnect.earth
SUMMARY:City Nature Challenge 2025
DESCRIPTION:The City Nature Challenge is back for another year and we at Bracken Nature Reserve are hosting a fun-filled day of observing wildlife and taking photos of all the plants and animals that live there. We post all our photos of that day on iNaturalist and see how the city of Cape Town competes with the rest of the cities in the world in terms of observations.  \nJoin the City Nature Challenge at Kenilworth Racecourse Conservation Area!  \nThe City Nature Challenge is a global event where people come together to document urban wildlife using the iNaturalist app. It’s a fun\, hands-on way to explore nature\, contribute to real science\, and connect with your local environment.  \nBe a citizen scientist and help record the incredible biodiversity at Kenilworth Racecourse Conservation Area. Every observation counts—let’s put our local nature on the map!  \nParticipating in the City Nature Challenge:  \nDownload the iNaturalist App from the Google Play store/Apple store and create an account  \n*Find Wildlife- It can be any plant\, animal\, or any evidence of life found in your city.  \n*Take picture- Take a picture of what you find. Be sure to note the location of the critter or plant.  \n*Share- Share your observations through iNaturalist.  \n📅: Saturday the 26th of April 2025  \n🕧: 09:00 – 11:00 \n📍: Hollwoodbets Kenilworth  \nRSVP: KenilworthC1@caperacing.co.za OR fill in the form City Nature Challenge 2025 \nFree entry\, Donations towards conservation efforts welcome  \nFor more information view the flyer below:
URL:https://sustainableschools.natureconnect.earth/event/city-nature-challenge-2025/
LOCATION:Kenilworth Racecourse Conservation Area\, Rosmead Ave\, Kenilworth\, Cape Town\, Western Cape\, 7745\, South Africa
CATEGORIES:Education,Event
ATTACH;FMTTYPE=image/jpeg:https://sustainableschools.natureconnect.earth/wp-content/uploads/2025/04/City-Nature-Challenge-banner1.jpg
END:VEVENT
END:VCALENDAR