BEGIN:VCALENDAR
VERSION:2.0
PRODID:-//Sustainable Schools - ECPv6.7.0//NONSGML v1.0//EN
CALSCALE:GREGORIAN
METHOD:PUBLISH
X-WR-CALNAME:Sustainable Schools
X-ORIGINAL-URL:https://sustainableschools.natureconnect.earth
X-WR-CALDESC:Events for Sustainable Schools
REFRESH-INTERVAL;VALUE=DURATION:PT1H
X-Robots-Tag:noindex
X-PUBLISHED-TTL:PT1H
BEGIN:VTIMEZONE
TZID:Africa/Johannesburg
BEGIN:STANDARD
TZOFFSETFROM:+0200
TZOFFSETTO:+0200
TZNAME:SAST
DTSTART:20250101T000000
END:STANDARD
END:VTIMEZONE
BEGIN:VEVENT
DTSTART;VALUE=DATE:20250221
DTEND;VALUE=DATE:20250223
DTSTAMP:20260424T200039
CREATED:20241128T085706Z
LAST-MODIFIED:20250121T141428Z
UID:27323-1740096000-1740268799@sustainableschools.natureconnect.earth
SUMMARY:Limpopo & Gauteng Rewards Ceremony 2025
DESCRIPTION:You’re invited! \nIt is our pleasure to invite you to our upcoming Rewards Ceremony for all Sustainable Schools based in Gauteng and Limpopo! 🎉🏆 \nJoin us in reflecting on and celebrating our collective progress made in 2024. It promises to be an exciting event filled with sharing\, connection and inspiration!  \nThis year’s ceremony will be an overnight experience at Lapalala Wilderness School. Please ensure each person attending completes the RSVP form.  \nWe will be arranging transport for both Gauteng and Limpopo teachers. Preference will be given to teachers from schools that have submitted their School Environmental Management Plan. RSVP soon to avoid missing out! \nWe’d like to extend this invitation to a maximum of 2 teachers from each school.  \nPlease RSVP below by 12 February 2025\, so we can make the necessary arrangements for your attendance. \nWe can’t wait to see you there! ✨
URL:https://sustainableschools.natureconnect.earth/event/limpopo-gauteng-rewards-ceremony-2025/
LOCATION:Lapalala Wilderness School\, D1756\, Waterberg District Municipality\, Limpopo\, South Africa
CATEGORIES:Gauteng,Limpopo
ATTACH;FMTTYPE=image/png:https://sustainableschools.natureconnect.earth/wp-content/uploads/2024/11/Banner_-GP-LP-Reward-Ceremony-Invite.png
END:VEVENT
END:VCALENDAR