BEGIN:VCALENDAR
VERSION:2.0
PRODID:-//Sustainable Schools - ECPv6.7.0//NONSGML v1.0//EN
CALSCALE:GREGORIAN
METHOD:PUBLISH
X-WR-CALNAME:Sustainable Schools
X-ORIGINAL-URL:https://sustainableschools.natureconnect.earth
X-WR-CALDESC:Events for Sustainable Schools
REFRESH-INTERVAL;VALUE=DURATION:PT1H
X-Robots-Tag:noindex
X-PUBLISHED-TTL:PT1H
BEGIN:VTIMEZONE
TZID:Africa/Johannesburg
BEGIN:STANDARD
TZOFFSETFROM:+0200
TZOFFSETTO:+0200
TZNAME:SAST
DTSTART:20250101T000000
END:STANDARD
END:VTIMEZONE
BEGIN:VEVENT
DTSTART;TZID=Africa/Johannesburg:20250808T090000
DTEND;TZID=Africa/Johannesburg:20250808T130000
DTSTAMP:20260424T013615
CREATED:20250625T071741Z
LAST-MODIFIED:20250728T110640Z
UID:31551-1754643600-1754658000@sustainableschools.natureconnect.earth
SUMMARY:Gauteng Teacher Workshop
DESCRIPTION:Join us for an engaging\, hands-on professional development session on August 8th\, designed to deepen your understanding of Climate Change education and strengthen your ability to bring energy and sustainability topics to life in your classrooms. \nHere’s why you should attend: \nLearn from our expert guest speakers \n\n\n\nFood and Trees for Africa (FTFA) – They focus on food security\, greening\, sustainable livelihood\, and running verified carbon programmes.\nAfrican Climate Reality Project (ACRP) – A powerful movement committed to climate literacy and empowering African change-makers through education\, campaigns\, and storytelling.\n\n\n\nInteractive and Practical Sessions \nThe workshop will include a climate change presentation\, a short screening of the ACRP docuseries\, and a creative lesson planning session\, where you’ll collaborate with fellow teachers and develop exciting\, curriculum-aligned content. As well as a hands-on tree planting session. \nTake-home resources \nTeachers will receive practical tools\, resource materials and some starter planter packs for each teacher to take home (to plant at their schools). This incredible pack from ACRP will support further learning and implementation back at school. \nCreate your own lessons \nTeachers will walk away with real lesson and assignment ideas tailored to your learners and school context. Space to get creative\, share\, and grow! \nNetwork and Refresh \nEnjoy the chance to connect with like-minded educators over light refreshments as we close the session.
URL:https://sustainableschools.natureconnect.earth/event/gauteng-teacher-workshop-save-the-date/
LOCATION:Dalpark Primary School\, Springs Rd\, Rand Collieries SH\, Brakpan\, Gauteng\, 1549\, South Africa
CATEGORIES:Gauteng,Teacher Workshop
ATTACH;FMTTYPE=image/jpeg:https://sustainableschools.natureconnect.earth/wp-content/uploads/2025/06/Gauteng-Teacher-Workshop.jpg
END:VEVENT
END:VCALENDAR