BEGIN:VCALENDAR
VERSION:2.0
PRODID:-//Sustainable Schools - ECPv6.7.0//NONSGML v1.0//EN
CALSCALE:GREGORIAN
METHOD:PUBLISH
X-ORIGINAL-URL:https://sustainableschools.natureconnect.earth
X-WR-CALDESC:Events for Sustainable Schools
REFRESH-INTERVAL;VALUE=DURATION:PT1H
X-Robots-Tag:noindex
X-PUBLISHED-TTL:PT1H
BEGIN:VTIMEZONE
TZID:Africa/Johannesburg
BEGIN:STANDARD
TZOFFSETFROM:+0200
TZOFFSETTO:+0200
TZNAME:SAST
DTSTART:20250101T000000
END:STANDARD
END:VTIMEZONE
BEGIN:VEVENT
DTSTART;TZID=Africa/Johannesburg:20250524T090000
DTEND;TZID=Africa/Johannesburg:20250524T130000
DTSTAMP:20260425T155541
CREATED:20250430T132445Z
LAST-MODIFIED:20250521T064615Z
UID:30137-1748077200-1748091600@sustainableschools.natureconnect.earth
SUMMARY:Western Cape: In-person Teacher Workshop
DESCRIPTION:Join us for our Biodiversity Network Teacher Workshop on 24 May 2025! \nWe are calling on all Western Cape schools to join us for an exciting in-person teacher workshop. The school year may be swiftly progressing – however\, it is not too late to learn another trick or two to boost the school’s sustainability efforts! \nThis workshop will be hosted at the beautiful Helderberg Nature Reserve and promises to be a valuable and inspiring morning for all educators passionate about environmental learning. \nRSVP before 21 May 2025\, and don’t miss out on this amazing opportunity to meet face-to-face again! \nWhat to expect: \n\nBiodiversity Network themed presentations and discussions with Cape Leopard Trust\nA special presentation on their inclusive children’s storybook\, Footprints in the Fynbos\, with a free copy of the book for all teachers who attend\nPractical learning and teaching tools to implement in your classroom\nOpportunity to connect and network with like-minded teachers\nTransport available on request from ZEEC\nBring along comfortable shoes and a rain jacket in-case for the short\, outdoor part of the workshop.\n\nWe look forward to sharing this enriching experience with you and continuing to support your school’s sustainability journey.
URL:https://sustainableschools.natureconnect.earth/event/western-cape-in-person-teacher-workshop/
LOCATION:Helderberg Nature Reserve\, Verster Ave\, Helderberg Nature Reserve\, Cape Town\, Western Cape\, 7135\, South Africa
CATEGORIES:Teacher Workshop,Western Cape
ATTACH;FMTTYPE=image/png:https://sustainableschools.natureconnect.earth/wp-content/uploads/2025/04/Untitled_16_x_9_cm.png
END:VEVENT
END:VCALENDAR